BEGIN:VCALENDAR
VERSION:2.0
PRODID:spatie/icalendar-generator
DESCRIPTION:Events from Son Rise Community Church
X-WR-CALDESC:Events from Son Rise Community Church
REFRESH-INTERVAL;VALUE=DURATION:PT1440M
X-PUBLISHED-TTL:PT1440M
BEGIN:VTIMEZONE
TZID:Etc/GMT+0
BEGIN:STANDARD
DTSTART:20210710T180000Z
TZOFFSETFROM:+0000
TZOFFSETTO:+0000
END:STANDARD
END:VTIMEZONE
BEGIN:VTIMEZONE
TZID:UTC
BEGIN:STANDARD
DTSTART:20250727T193557Z
TZOFFSETFROM:+0000
TZOFFSETTO:+0000
END:STANDARD
END:VTIMEZONE
BEGIN:VEVENT
UID:2666-7
DTSTAMP:20260423T193557Z
SUMMARY:Wednesday Night Pizza Supper
LOCATION:Son Rise Community Church 141 West Washington St  Summerville Ga 3
 0747
ORGANIZER;CN=SonRise2003:MAILTO:SonRise2003@outlook.com
RRULE:FREQ=WEEKLY;UNTIL=20320225T000000Z
DTSTART;TZID=Etc/GMT+0:20220406T180000
DTEND;TZID=Etc/GMT+0:20220406T183000
X-ALT-DESC;FMTTYPE=TEXT/HTML:Join us for pizza each week before Wednesday N
 ight Service starts.
CATEGORIES:Wednesday Night
URL;VALUE=URI:https://sonrisesummerville.org/mc-events/wednesday-night-pizz
 a-supper/?mc_id=2666
METHOD:PUBLISH
END:VEVENT
END:VCALENDAR