BEGIN:VCALENDAR
VERSION:2.0
PRODID:spatie/icalendar-generator
DESCRIPTION:Events from Son Rise Community Church
X-WR-CALDESC:Events from Son Rise Community Church
REFRESH-INTERVAL;VALUE=DURATION:PT1440M
X-PUBLISHED-TTL:PT1440M
BEGIN:VTIMEZONE
TZID:Etc/GMT+0
BEGIN:STANDARD
DTSTART:20250709T080000Z
TZOFFSETFROM:+0000
TZOFFSETTO:+0000
END:STANDARD
END:VTIMEZONE
BEGIN:VTIMEZONE
TZID:UTC
BEGIN:STANDARD
DTSTART:20250727T153136Z
TZOFFSETFROM:+0000
TZOFFSETTO:+0000
END:STANDARD
END:VTIMEZONE
BEGIN:VEVENT
UID:3231-8
DTSTAMP:20260423T153136Z
SUMMARY:Brotherhood breakfast
LOCATION:Son Rise Community Church 141 West Washington St  Summerville Ga 3
 0747
ORGANIZER;CN=SonRise2003:MAILTO:SonRise2003@outlook.com
RRULE:FREQ=MONTHLY;BYDAY=1SU;UNTIL=20320307T000000Z
DTSTART;TZID=Etc/GMT+0:20260405T080000
DTEND;TZID=Etc/GMT+0:20260405T090000
X-ALT-DESC;FMTTYPE=TEXT/HTML:The men cook breakfast for the whole church to
  enjoy fellowship and love!
CATEGORIES:Sunday Worship
URL;VALUE=URI:https://sonrisesummerville.org/mc-events/brotherhood-breakfas
 t/?mc_id=3231
METHOD:PUBLISH
END:VEVENT
END:VCALENDAR