BEGIN:VCALENDAR
VERSION:2.0
PRODID:spatie/icalendar-generator
DESCRIPTION:Events from Son Rise Community Church
X-WR-CALDESC:Events from Son Rise Community Church
REFRESH-INTERVAL;VALUE=DURATION:PT1440M
X-PUBLISHED-TTL:PT1440M
BEGIN:VTIMEZONE
TZID:Etc/GMT+0
BEGIN:STANDARD
DTSTART:20250723T080000Z
TZOFFSETFROM:+0000
TZOFFSETTO:+0000
END:STANDARD
END:VTIMEZONE
BEGIN:VTIMEZONE
TZID:UTC
BEGIN:STANDARD
DTSTART:20250727T151409Z
TZOFFSETFROM:+0000
TZOFFSETTO:+0000
END:STANDARD
END:VTIMEZONE
BEGIN:VEVENT
UID:3592-11
DTSTAMP:20260423T151409Z
SUMMARY:Continental Breakfast
LOCATION:Son Rise Community Church 141 West Washington St  Summerville Ga 3
 0747
ORGANIZER;CN=SonRise2003:MAILTO:SonRise2003@outlook.com
RRULE:FREQ=MONTHLY;BYDAY=3SU;UNTIL=20320321T000000Z
DTSTART;TZID=Etc/GMT+0:20260419T080000
DTEND;TZID=Etc/GMT+0:20260419T090000
X-ALT-DESC;FMTTYPE=TEXT/HTML:Free continental breakfast is provided each we
 ek by a different Sunday School Class.
CATEGORIES:Sunday Worship
URL;VALUE=URI:https://sonrisesummerville.org/mc-events/continental-breakfas
 t-3/?mc_id=3592
METHOD:PUBLISH
END:VEVENT
END:VCALENDAR