BEGIN:VCALENDAR
VERSION:2.0
PRODID:spatie/icalendar-generator
DESCRIPTION:Events from Son Rise Community Church
X-WR-CALDESC:Events from Son Rise Community Church
REFRESH-INTERVAL;VALUE=DURATION:PT1440M
X-PUBLISHED-TTL:PT1440M
BEGIN:VTIMEZONE
TZID:Etc/GMT+0
BEGIN:STANDARD
DTSTART:20250723T100000Z
TZOFFSETFROM:+0000
TZOFFSETTO:+0000
END:STANDARD
END:VTIMEZONE
BEGIN:VTIMEZONE
TZID:UTC
BEGIN:STANDARD
DTSTART:20250727T151750Z
TZOFFSETFROM:+0000
TZOFFSETTO:+0000
END:STANDARD
END:VTIMEZONE
BEGIN:VEVENT
UID:3999-6
DTSTAMP:20260423T151750Z
SUMMARY:Sunday School
LOCATION:Son Rise Community Church 141 West Washington St  Summerville Ga 3
 0747
ORGANIZER;CN=SonRise2003:MAILTO:SonRise2003@outlook.com
RRULE:FREQ=WEEKLY;UNTIL=20320229T000000Z
DTSTART;TZID=Etc/GMT+0:20260419T100000
DTEND;TZID=Etc/GMT+0:20260419T110000
X-ALT-DESC;FMTTYPE=TEXT/HTML:Classes for all ages!
CATEGORIES:Sunday Worship
URL;VALUE=URI:https://sonrisesummerville.org/mc-events/sunday-school/?mc_id
 =3999
METHOD:PUBLISH
END:VEVENT
END:VCALENDAR