BEGIN:VCALENDAR
VERSION:2.0
PRODID:spatie/icalendar-generator
DESCRIPTION:Events from Son Rise Community Church
X-WR-CALDESC:Events from Son Rise Community Church
REFRESH-INTERVAL;VALUE=DURATION:PT1440M
X-PUBLISHED-TTL:PT1440M
BEGIN:VTIMEZONE
TZID:Etc/GMT+0
BEGIN:STANDARD
DTSTART:20210707T090000Z
TZOFFSETFROM:+0000
TZOFFSETTO:+0000
END:STANDARD
END:VTIMEZONE
BEGIN:VTIMEZONE
TZID:UTC
BEGIN:STANDARD
DTSTART:20250727T195652Z
TZOFFSETFROM:+0000
TZOFFSETTO:+0000
END:STANDARD
END:VTIMEZONE
BEGIN:VEVENT
UID:4310-5
DTSTAMP:20260423T195652Z
SUMMARY:War Room Prayer
LOCATION:Son Rise Community Church 141 West Washington St  Summerville Ga 3
 0747
ORGANIZER;CN=SonRise2003:MAILTO:SonRise2003@outlook.com
RRULE:FREQ=WEEKLY;UNTIL=20320229T000000Z
DTSTART;TZID=Etc/GMT+0:20220403T090000
DTEND;TZID=Etc/GMT+0:20220403T100000
X-ALT-DESC;FMTTYPE=TEXT/HTML:Join our prayer warriors as they pray for Sund
 ay School\, the pastor\, worship\, and YOU!
CATEGORIES:Sunday Worship
URL;VALUE=URI:https://sonrisesummerville.org/mc-events/war-room-prayer/?mc_
 id=4310
METHOD:PUBLISH
END:VEVENT
END:VCALENDAR