BEGIN:VCALENDAR
VERSION:2.0
PRODID:spatie/icalendar-generator
DESCRIPTION:Events from Son Rise Community Church
X-WR-CALDESC:Events from Son Rise Community Church
REFRESH-INTERVAL;VALUE=DURATION:PT1440M
X-PUBLISHED-TTL:PT1440M
BEGIN:VTIMEZONE
TZID:Etc/GMT+0
BEGIN:STANDARD
DTSTART:20210529T183000Z
TZOFFSETFROM:+0000
TZOFFSETTO:+0000
END:STANDARD
END:VTIMEZONE
BEGIN:VTIMEZONE
TZID:UTC
BEGIN:STANDARD
DTSTART:20250727T182646Z
TZOFFSETFROM:+0000
TZOFFSETTO:+0000
END:STANDARD
END:VTIMEZONE
BEGIN:VEVENT
UID:5349-13
DTSTAMP:20260423T182646Z
SUMMARY:Kidz Club
LOCATION:Son Rise Community Church 141 West Washington St  Summerville Ga 3
 0747
ORGANIZER;CN=SonRise2003:MAILTO:SonRise2003@outlook.com
RRULE:FREQ=WEEKLY;UNTIL=20320225T000000Z
DTSTART;TZID=Etc/GMT+0:20220223T183000
DTEND;TZID=Etc/GMT+0:20220223T200000
X-ALT-DESC;FMTTYPE=TEXT/HTML:Science experiment and biblical teaching for k
 ids up to the end of 5th grade!
CATEGORIES:Wednesday Night
URL;VALUE=URI:https://sonrisesummerville.org/mc-events/kidz-club/?mc_id=534
 9
METHOD:PUBLISH
END:VEVENT
END:VCALENDAR