BEGIN:VCALENDAR
VERSION:2.0
PRODID:spatie/icalendar-generator
DESCRIPTION:Events from Son Rise Community Church
X-WR-CALDESC:Events from Son Rise Community Church
REFRESH-INTERVAL;VALUE=DURATION:PT1440M
X-PUBLISHED-TTL:PT1440M
BEGIN:VTIMEZONE
TZID:Etc/GMT+0
BEGIN:STANDARD
DTSTART:20210616T110000Z
TZOFFSETFROM:+0000
TZOFFSETTO:+0000
END:STANDARD
END:VTIMEZONE
BEGIN:VTIMEZONE
TZID:UTC
BEGIN:STANDARD
DTSTART:20250727T194605Z
TZOFFSETFROM:+0000
TZOFFSETTO:+0000
END:STANDARD
END:VTIMEZONE
BEGIN:VEVENT
UID:6-2
DTSTAMP:20260423T194605Z
SUMMARY:Worship
LOCATION:
ORGANIZER;CN=SonRise2003:MAILTO:SonRise2003@outlook.com
RRULE:FREQ=WEEKLY;UNTIL=20330101T000000Z
DTSTART;TZID=Etc/GMT+0:20220313T110000
DTEND;TZID=Etc/GMT+0:20220313T120000
X-ALT-DESC;FMTTYPE=TEXT/HTML:Join us for exciting worship\, biblical preach
 ing\, and a touch of the Holy Spirit!
CATEGORIES:Sunday Worship
URL;VALUE=URI:https://sonrisesummerville.org/mc-events/worship/?mc_id=6
METHOD:PUBLISH
END:VEVENT
END:VCALENDAR